BEGIN:VCALENDAR
VERSION:2.0
PRODID:-//Heinens//Events Calendar//EN
CALSCALE:GREGORIAN
METHOD:PUBLISH
BEGIN:VEVENT
UID:69e827d4cd730@marketing.heinens.com
DTSTAMP:20260422T054348Z
DTSTART:20230303T223000Z
DTEND:20230304T003000Z
SUMMARY:Sparkle into Spring Wine Tasting
DESCRIPTION:Join us on the second floor of the rotunda at Heinen’s Downtown Cleveland to pop the cork on the spring season!\n\nEnjoy a delicious combination of sparkling wine and higher end champagne during this interactive guided tasting led by Heinen’s wine experts. A small cheese tray will be provided to each attendee.\n\n$35 per person | Questions? Please contact Heinen’s Downtown Cleveland at 216-302-3020.
LOCATION:Downtown Cleveland Heinens - 900 Euclid Avenue Cleveland OH 44115
URL:https://marketing.heinens.com/event/sparkle-into-spring-wine-tasting/
END:VEVENT
END:VCALENDAR
