BEGIN:VCALENDAR
VERSION:2.0
PRODID:-//Heinens//Events Calendar//EN
CALSCALE:GREGORIAN
METHOD:PUBLISH
BEGIN:VEVENT
UID:69e5fd709f969@marketing.heinens.com
DTSTAMP:20260420T141824Z
DTSTART:20230512T220000Z
DTEND:20230512T233000Z
SUMMARY:Rosé Wine Walkabout
DESCRIPTION:Celebrate the start of Rosé season by embarking on a tasting tour of our favorite seasonal selections!\n\nJoin us in the Wine Department at Heinen's Brecksville to casually sip and walk your way through a curated collection of 12 crisp\, refreshing and worldly Rosé wines made form a unique assortment of grape varietals.\n\n$10 per person\, paid at the store | Questions? Please contact Heinen's Brecksville at (440) 740-0535.
LOCATION:Brecksville Heinens - 8383 Chippewa Road Brecksville OH 44141
URL:https://marketing.heinens.com/event/rose-wine-walkabout-brecksville/
END:VEVENT
END:VCALENDAR
