BEGIN:VCALENDAR
VERSION:2.0
PRODID:-//Heinens//Events Calendar//EN
CALSCALE:GREGORIAN
METHOD:PUBLISH
BEGIN:VEVENT
UID:69e64c1418e3f@marketing.heinens.com
DTSTAMP:20260420T195356Z
DTSTART:20230718T220000Z
DTEND:20230718T233000Z
SUMMARY:Refreshing Summer White Wine Tasting
DESCRIPTION:Keep cool this summer by stocking up on our most refreshing white wines!\n\nSauvignon Blanc and summer often seem synonymous to many wine drinkers\, but there are so many more white wines waiting to be sipped during the warm weather season!\n\nJoin us in the Tasting Room at Heinen’s Chagrin Falls as Heinen’s Wine Expert\, Shannon Welsh\, guides an interactive tasting featuring a curated collection of crisp and fruity white wines perfect for a hot summer day. Cheese\, charcuterie and light seasonal fare will be provided for pairing.\n\n$30 per person | Questions? Please contact Heinen’s Chagrin Falls at (440) 424-5108.
LOCATION:Chagrin Falls Heinens - 20 Plaza Drive Chagrin Falls OH 44022
URL:https://marketing.heinens.com/event/refreshing-summer-white-wine-tasting/
END:VEVENT
END:VCALENDAR
