BEGIN:VCALENDAR
VERSION:2.0
PRODID:-//Heinens//Events Calendar//EN
CALSCALE:GREGORIAN
METHOD:PUBLISH
BEGIN:VEVENT
UID:69e810955def8@marketing.heinens.com
DTSTAMP:20260422T040437Z
DTSTART:20231006T213000Z
DTEND:20231007T000000Z
SUMMARY:Live Music with Tom Evanchuck: October 2023
DESCRIPTION:Celebrate a crisp October weekend with a relaxing evening full of great music\, food and drink!\n\nJoin us in the tasting room or on the patio at Heinen’s Chagrin Falls and enjoy the sounds of early folk\, blues and rock ‘n’ roll performed by local musician\, Tom Evanchuck.\n\nWhile you listen\, treat yourself to gourmet bites from our restaurant-style kitchen and sip on our selection of wine and beer on tap!\n\nNo entrance fee required. Food and beverage may be purchased separately.
LOCATION:Chagrin Falls Heinens - 20 Plaza Drive Chagrin Falls OH 44022
URL:https://marketing.heinens.com/event/live-music-with-tom-evanchuck-october-2023/
END:VEVENT
END:VCALENDAR
