BEGIN:VCALENDAR
VERSION:2.0
PRODID:-//Heinens//Events Calendar//EN
CALSCALE:GREGORIAN
METHOD:PUBLISH
BEGIN:VEVENT
UID:69e770f6ab294@marketing.heinens.com
DTSTAMP:20260421T164334Z
DTSTART:20231007T150000Z
DTEND:20231007T190000Z
SUMMARY:Heinen&#8217\;s Fall Fest: Day 1
DESCRIPTION:Join us in-store at ALL Heinen's locations as we celebrate the fall season with a Fall Fest Weekend featuring a special 2-day sale on staple fall items and free samples of our favorite seasonal foods all throughout the store!\n\nQuestions? Please contact your local Heinen's: https://marketing.heinens.com/stores/\n\n*Sampling times may vary by store.
LOCATION:Aurora Heinens
URL:https://marketing.heinens.com/event/heinens-fall-fest-day-1/
END:VEVENT
END:VCALENDAR
