BEGIN:VCALENDAR
VERSION:2.0
PRODID:-//Heinens//Events Calendar//EN
CALSCALE:GREGORIAN
METHOD:PUBLISH
BEGIN:VEVENT
UID:69ed9715c1c6a@marketing.heinens.com
DTSTAMP:20260426T083949Z
DTSTART:20231010T220000Z
DTEND:20231010T233000Z
SUMMARY:Bordeaux Wine Tasting
DESCRIPTION:Sip your way through the Bordeaux region of France!\n\nJoin us in the Tasting Room at Heinen's Chagrin Falls as Bordeaux native and wine and spirits expert\, Jules Martin leads an interactive tasting of six Bordeaux wines paired with cheese.\n\nFeatured wines include:\n\nJC Calvet Brut Rosé\, Cremant de Bordeaux\nCh. Freynelle\, Entre Deux Mers Bordeaux Blanc\nCh. Bellevue Peycharneau\, Ste Foy de Bordeaux\nCh. Blaignan\, Medoc Cru Bourgeois\nCh. Saint Andre Corbin\, St. Georges-St. Emilion\nCh. Mongravey\, Margaux Cru Bourgeois Superieur\n\n$25 per person | Questions? Please contact Heinen's Chagrin Falls at 440-424-5108.
LOCATION:Chagrin Falls Heinens - 20 Plaza Drive Chagrin Falls OH 44022
URL:https://marketing.heinens.com/event/bordeaux-wine-tasting-chagrin-falls/
END:VEVENT
END:VCALENDAR
