BEGIN:VCALENDAR
VERSION:2.0
PRODID:-//Heinens//Events Calendar//EN
CALSCALE:GREGORIAN
METHOD:PUBLISH
BEGIN:VEVENT
UID:69ea2fc1ab360@marketing.heinens.com
DTSTAMP:20260423T184209Z
DTSTART:20231215T223000Z
DTEND:20231216T010000Z
SUMMARY:Live Music with The Jazz Guys: December 2023
DESCRIPTION:Start another winter weekend off right with a relaxing evening full of great music\, food and drink!\n\nJoin us in the tasting room at Heinen’s Chagrin Falls and enjoy the relaxing sounds of classic jazz performed by Cleveland's own Jazz Guys.\n\nWhile you listen\, treat yourself to gourmet bites from our restaurant-style kitchen and sip on our selection of wine and beer on tap!\n\nNo entrance fee required. Food and beverage may be purchased separately.
LOCATION:Chagrin Falls Heinens - 20 Plaza Drive Chagrin Falls OH 44022
URL:https://marketing.heinens.com/event/live-music-with-the-jazz-guys-december-2023/
END:VEVENT
END:VCALENDAR
