BEGIN:VCALENDAR
VERSION:2.0
PRODID:-//Heinens//Events Calendar//EN
CALSCALE:GREGORIAN
METHOD:PUBLISH
BEGIN:VEVENT
UID:69e8eee714ef9@marketing.heinens.com
DTSTAMP:20260422T195311Z
DTSTART:20240301T223000Z
DTEND:20240302T010000Z
SUMMARY:Live Music with David Sterner: March 2023
DESCRIPTION:Celebrate the weekend with an evening full of live music\, food and drink!\n\nJoin us in the tasting room at Heinen’s Chagrin Falls and enjoy the relaxing sounds of jazz performed live by local saxophonist\, David Sterner.\n\nWhile you listen\, treat yourself to gourmet bites from our restaurant-style kitchen and sip on our selection of wine and beer on tap!\n\nNo entrance fee required. Food and beverage may be purchased separately.
LOCATION:Chagrin Falls Heinens - 20 Plaza Drive Chagrin Falls OH 44022
URL:https://marketing.heinens.com/event/live-music-with-david-sterner-march-2023/
END:VEVENT
END:VCALENDAR
